BEGIN:VCALENDAR
VERSION:2.0
PRODID:Events Booking
BEGIN:VEVENT
UID:69e8c2e3a7b3e
SUMMARY:25/26 MG Roadshow - KwaZulu Natal  
DESCRIPTION:
LOCATION:Hybrid - Venue Details and Meeting Link will be shared with confir
 med attendees
DTSTART:20250131T080000Z
DTEND:20250131T110000Z
DTSTAMP:20250109T113349Z
ORGANIZER;CN=Transport Education Training Authority -  Events Booking:MAILT
 O:events@teta.org.za
END:VEVENT
END:VCALENDAR